BEGIN:VCALENDAR
VERSION:2.0
PRODID:-//Garden State Iris Society - ECPv6.15.20//NONSGML v1.0//EN
CALSCALE:GREGORIAN
METHOD:PUBLISH
X-ORIGINAL-URL:https://jerseyiris.org
X-WR-CALDESC:Events for Garden State Iris Society
REFRESH-INTERVAL;VALUE=DURATION:PT1H
X-Robots-Tag:noindex
X-PUBLISHED-TTL:PT1H
BEGIN:VTIMEZONE
TZID:America/New_York
BEGIN:DAYLIGHT
TZOFFSETFROM:-0500
TZOFFSETTO:-0400
TZNAME:EDT
DTSTART:20190310T070000
END:DAYLIGHT
BEGIN:STANDARD
TZOFFSETFROM:-0400
TZOFFSETTO:-0500
TZNAME:EST
DTSTART:20191103T060000
END:STANDARD
BEGIN:DAYLIGHT
TZOFFSETFROM:-0500
TZOFFSETTO:-0400
TZNAME:EDT
DTSTART:20200308T070000
END:DAYLIGHT
BEGIN:STANDARD
TZOFFSETFROM:-0400
TZOFFSETTO:-0500
TZNAME:EST
DTSTART:20201101T060000
END:STANDARD
BEGIN:DAYLIGHT
TZOFFSETFROM:-0500
TZOFFSETTO:-0400
TZNAME:EDT
DTSTART:20210314T070000
END:DAYLIGHT
BEGIN:STANDARD
TZOFFSETFROM:-0400
TZOFFSETTO:-0500
TZNAME:EST
DTSTART:20211107T060000
END:STANDARD
END:VTIMEZONE
BEGIN:VEVENT
DTSTART;TZID=America/New_York:20200315T120000
DTEND;TZID=America/New_York:20200315T120000
DTSTAMP:20260423T231421
CREATED:20200114T173759Z
LAST-MODIFIED:20200314T205540Z
UID:1274-1584273600-1584273600@jerseyiris.org
SUMMARY:DVIS Luncheon CANCELED DUE TO CORONA VIRUS
DESCRIPTION:CANCELED DUE TO CORONA VIRUS
URL:https://jerseyiris.org/event/dvis-spring-luncheon-2/
LOCATION:Hilton Garden Inn Exton\, 720 East Eagleview Blvd\, Exton\, PA\, 19341\, United States
END:VEVENT
END:VCALENDAR