BEGIN:VCALENDAR
VERSION:2.0
PRODID:-//Garden State Iris Society - ECPv6.15.20//NONSGML v1.0//EN
CALSCALE:GREGORIAN
METHOD:PUBLISH
X-WR-CALNAME:Garden State Iris Society
X-ORIGINAL-URL:https://jerseyiris.org
X-WR-CALDESC:Events for Garden State Iris Society
REFRESH-INTERVAL;VALUE=DURATION:PT1H
X-Robots-Tag:noindex
X-PUBLISHED-TTL:PT1H
BEGIN:VTIMEZONE
TZID:America/New_York
BEGIN:DAYLIGHT
TZOFFSETFROM:-0500
TZOFFSETTO:-0400
TZNAME:EDT
DTSTART:20170312T070000
END:DAYLIGHT
BEGIN:STANDARD
TZOFFSETFROM:-0400
TZOFFSETTO:-0500
TZNAME:EST
DTSTART:20171105T060000
END:STANDARD
BEGIN:DAYLIGHT
TZOFFSETFROM:-0500
TZOFFSETTO:-0400
TZNAME:EDT
DTSTART:20180311T070000
END:DAYLIGHT
BEGIN:STANDARD
TZOFFSETFROM:-0400
TZOFFSETTO:-0500
TZNAME:EST
DTSTART:20181104T060000
END:STANDARD
BEGIN:DAYLIGHT
TZOFFSETFROM:-0500
TZOFFSETTO:-0400
TZNAME:EDT
DTSTART:20190310T070000
END:DAYLIGHT
BEGIN:STANDARD
TZOFFSETFROM:-0400
TZOFFSETTO:-0500
TZNAME:EST
DTSTART:20191103T060000
END:STANDARD
END:VTIMEZONE
BEGIN:VEVENT
DTSTART;TZID=America/New_York:20180511T123000
DTEND;TZID=America/New_York:20180511T190000
DTSTAMP:20260424T183927
CREATED:20180207T201432Z
LAST-MODIFIED:20180207T201432Z
UID:692-1526041800-1526065200@jerseyiris.org
SUMMARY:GSIS booth @Cape May Garden Club
DESCRIPTION:Garden State Iris Society info booth at the Cape May Garden Club Flower Show (“POETRY OF THE VICTORIAN GARDEN”)
URL:https://jerseyiris.org/event/gsis-booth-cape-may-garden-club/
LOCATION:Cape May Convention Hall\, 714 Beach Ave\, Cape May\, NJ\, 08204\, United States
END:VEVENT
BEGIN:VEVENT
DTSTART;TZID=America/New_York:20180512T100000
DTEND;TZID=America/New_York:20180512T160000
DTSTAMP:20260424T183927
CREATED:20180203T000513Z
LAST-MODIFIED:20180323T203344Z
UID:677-1526119200-1526140800@jerseyiris.org
SUMMARY:Garden State Iris Society Show @Burlington County Library
DESCRIPTION:Free and open to the public. Entry placement 10-11 am. Judging 11-noon. Show open to the public at noon.\nAnyone can enter. Show rules & schedule.
URL:https://jerseyiris.org/event/bcc-show/
LOCATION:Burlington County Library\, 5 Pioneer Blvd\, Westampton\, NJ\, 08060\, United States
END:VEVENT
BEGIN:VEVENT
DTSTART;TZID=America/New_York:20180513T090000
DTEND;TZID=America/New_York:20180513T120000
DTSTAMP:20260424T183927
CREATED:20180202T235332Z
LAST-MODIFIED:20180207T180735Z
UID:674-1526202000-1526212800@jerseyiris.org
SUMMARY:GSIS Exhibit @ Deep Cut Gardens
DESCRIPTION:National Public Garden Day / Mother’s Day\nOpen to the public
URL:https://jerseyiris.org/event/deep-cut-gardens-exhibit/
LOCATION:Deep Cut Gardens\, 152 Red Hill Rd\, Middletown\, NJ\, 07748\, United States
END:VEVENT
BEGIN:VEVENT
DTSTART;TZID=America/New_York:20180519T120000
DTEND;TZID=America/New_York:20180519T160000
DTSTAMP:20260424T183927
CREATED:20180515T142150Z
LAST-MODIFIED:20180515T142426Z
UID:880-1526731200-1526745600@jerseyiris.org
SUMMARY:Susquehanna Iris Society Iris Show
DESCRIPTION:
URL:https://jerseyiris.org/event/susquehanna-iris-society-iris-show/
LOCATION:Hershey Gardens Summer Cottage Building\, 170 Hotel Rd\, Hershey\, PA\, 17033\, United States
END:VEVENT
END:VCALENDAR